BEGIN:VCALENDAR
VERSION:2.0
PRODID:-//onlinevents.de - ECPv6.15.17.1//NONSGML v1.0//EN
CALSCALE:GREGORIAN
METHOD:PUBLISH
X-WR-CALNAME:onlinevents.de
X-ORIGINAL-URL:https://www.onlinevents.de
X-WR-CALDESC:Veranstaltungen für onlinevents.de
REFRESH-INTERVAL;VALUE=DURATION:PT1H
X-Robots-Tag:noindex
X-PUBLISHED-TTL:PT1H
BEGIN:VTIMEZONE
TZID:Europe/Berlin
BEGIN:DAYLIGHT
TZOFFSETFROM:+0100
TZOFFSETTO:+0200
TZNAME:CEST
DTSTART:20250330T010000
END:DAYLIGHT
BEGIN:STANDARD
TZOFFSETFROM:+0200
TZOFFSETTO:+0100
TZNAME:CET
DTSTART:20251026T010000
END:STANDARD
BEGIN:DAYLIGHT
TZOFFSETFROM:+0100
TZOFFSETTO:+0200
TZNAME:CEST
DTSTART:20260329T010000
END:DAYLIGHT
BEGIN:STANDARD
TZOFFSETFROM:+0200
TZOFFSETTO:+0100
TZNAME:CET
DTSTART:20261025T010000
END:STANDARD
BEGIN:DAYLIGHT
TZOFFSETFROM:+0100
TZOFFSETTO:+0200
TZNAME:CEST
DTSTART:20270328T010000
END:DAYLIGHT
BEGIN:STANDARD
TZOFFSETFROM:+0200
TZOFFSETTO:+0100
TZNAME:CET
DTSTART:20271031T010000
END:STANDARD
END:VTIMEZONE
BEGIN:VEVENT
DTSTART;TZID=Europe/Berlin:20260423T000000
DTEND;TZID=Europe/Berlin:20260426T235959
DTSTAMP:20260425T121832
CREATED:20230828T143219Z
LAST-MODIFIED:20260113T174643Z
UID:949-1776902400-1777247999@www.onlinevents.de
SUMMARY:Umsatz Extrem I 2026 Das ultimative Verkaufs- und Akquisetraining von Dirk Kreuter
DESCRIPTION:Dirk Kreuter wird in diesem umfassende Verkaufs- und Akquisetraining Seminar verdeutlichen\, was im Verkauf alles erreichbar ist. Dabei wird er seine individuellen Erfolgsgrundsätze offenbaren\, die in verschiedenen Branchen Anwendung finden können. \n\n\n\n\n\n\n\nInfos & Tickets unter: \n\n\n\n\nJetzt Ticket sichern\n\n\n\n\n\n\n\n\nEin Seminar\, das nicht ausschließlich für Verkäufer konzipiert ist. Es richtet sich an Menschen\, die nach einer Steigerung ihres Umsatzes\, höheren Gewinnen\, mehr Zeit\, größerer Freiheit und erhöhter Unabhängigkeit streben. \n\n\n\nDie Amerikaner sagen: „Life is a salestalk“ – Das Leben ist ein Verkaufsgespräch. Dies gilt\, unabhängig davon\, ob du Single bist und nach einem Partner oder einer Partnerin suchst\, ob du als Angestellter beruflich aufsteigen möchtest\, ob du ein Start-up gegründet hast und nach Investoren\, erstklassigen Mitarbeitern oder neuen Kunden suchst – Verkaufen ist ein integraler Bestandteil unseres Lebens. \n\n\n\nSogar als Führungskraft verkaufst du deine Ziele und Visionen. Schließlich kommen deine Mitarbeiter nicht allein wegen des Gehalts zu dir. Verkaufen ist im Wesentlichen zielgerichtete Kommunikation. Und genau das wirst du in diesen drei Tagen intensiv erlernen\, wie nirgendwo sonst. Egal ob du Verkäufer\, Außendienstmitarbeiter\, Telefonverkäufer\, Handelsvertreter\, Vertriebsleiter\, Selbstständiger oder Unternehmer bist. Dieses Seminar ist für alle gedacht\, die überdurchschnittliches Wachstum anstreben. \n\n\n\n\nInhalt \nToggle\nDas Event auf einen BlickWas steckt hinter dem Community Day?Programm & AblaufSpeaker & ReferentenTickets & PreiseEarly-Bird-TicketStandard-TicketLocation: B’Mine Hotel FrankfurtErfahrungen & BewertungenFazit: Lohnt sich die Teilnahme?Häufige FragenWann und wo findet der Community Day 2026 statt?Was kostet ein Ticket für den Community Day 2026?Für wen ist der Community Day geeignet?Wann werden die Tickets versandt?Wie komme ich zum B’Mine Hotel in Frankfurt?Was ist im Ticket inbegriffen?Ralf SchmitzB’Mine Hotel Frankfurt\n\n\n\n\nUmsatz Extrem I 2026 Das ultimative Verkaufs- und Akquisetraining von Dirk Kreuter\n\n\n\n\nTermin: 23. – 26. April 2026\n\n\n\nLocation: RADISSON BLU Düsseldorf\n\n\n\nWebseite & Tickets: www.dirkkreuter.com\n\n\n\n\nTickets 2026\n\n\n\nKlassik\n\n\n\nDas Klassik Ticket kostet regulär 4.990 €. \n\n\n\nExecutive\n\n\n\nDas Executive Ticket kostet regulär 5.101 €. \n\n\n\nVIP\n\n\n\nDas VIP Ticket kostet 7.124 €.
URL:https://www.onlinevents.de/event/umsatz-extrem-i-das-ultimative-verkaufs-und-akquisetraining-von-dirk-kreuter/
LOCATION:Neuss
CATEGORIES:Online Marketing,Vertrieb
ATTACH;FMTTYPE=image/jpeg:https://www.onlinevents.de/wp-content/uploads/2023/08/Umsatz-Extrem-I-Das-ultimative-Verkaufs-und-Akquisetraining-von-Dirk-Kreuter-Bild-final.jpg
END:VEVENT
END:VCALENDAR