BEGIN:VCALENDAR
VERSION:2.0
PRODID:-//onlinevents.de - ECPv6.15.17.1//NONSGML v1.0//EN
CALSCALE:GREGORIAN
METHOD:PUBLISH
X-WR-CALNAME:onlinevents.de
X-ORIGINAL-URL:https://www.onlinevents.de
X-WR-CALDESC:Veranstaltungen für onlinevents.de
REFRESH-INTERVAL;VALUE=DURATION:PT1H
X-Robots-Tag:noindex
X-PUBLISHED-TTL:PT1H
BEGIN:VTIMEZONE
TZID:Europe/Berlin
BEGIN:DAYLIGHT
TZOFFSETFROM:+0100
TZOFFSETTO:+0200
TZNAME:CEST
DTSTART:20220327T010000
END:DAYLIGHT
BEGIN:STANDARD
TZOFFSETFROM:+0200
TZOFFSETTO:+0100
TZNAME:CET
DTSTART:20221030T010000
END:STANDARD
BEGIN:DAYLIGHT
TZOFFSETFROM:+0100
TZOFFSETTO:+0200
TZNAME:CEST
DTSTART:20230326T010000
END:DAYLIGHT
BEGIN:STANDARD
TZOFFSETFROM:+0200
TZOFFSETTO:+0100
TZNAME:CET
DTSTART:20231029T010000
END:STANDARD
BEGIN:DAYLIGHT
TZOFFSETFROM:+0100
TZOFFSETTO:+0200
TZNAME:CEST
DTSTART:20240331T010000
END:DAYLIGHT
BEGIN:STANDARD
TZOFFSETFROM:+0200
TZOFFSETTO:+0100
TZNAME:CET
DTSTART:20241027T010000
END:STANDARD
END:VTIMEZONE
BEGIN:VEVENT
DTSTART;VALUE=DATE:20231002
DTEND;VALUE=DATE:20231005
DTSTAMP:20260421T120922
CREATED:20230828T140327Z
LAST-MODIFIED:20230828T140432Z
UID:929-1696204800-1696463999@www.onlinevents.de
SUMMARY:Skalieren und Expandieren 2023 by Dirk Kreuter
DESCRIPTION:Als Unternehmer\, Selbstständiger\, Gründer oder Führungskraft ist es von entscheidender Bedeutung\, in deinem Unternehmen operative Exzellenz anzustreben. Neben deiner Geschäftsidee und deinem Geschäftsmodell bildet operative Exzellenz die Grundlage für das Skalieren und die Expansion deines Unternehmens. \nUm dieses Ziel zu erreichen\, sind gut durchdachte Systeme unerlässlich. Ein Mangel an effektiven Systemen kann dazu führen\, dass du bestenfalls nur kurzfristigen Erfolg erzielst. Im schlimmsten Fall könnten unzufriedene Kunden und Mitarbeiter\, unpassende (Handels-)Partner sowie Schwierigkeiten bei Lieferungen und Zahlungen den Weg in die Insolvenz ebnen. \n  \nInfos & Tickets unter: \nwww.bestseller-verlag.com \n  \nWenn du dein Unternehmen auf eine stabile Grundlage stellen möchtest\, wird dieses Seminar als logische und praxisorientierte Ergänzung empfohlen\, insbesondere wenn du bereits am „Systemvertrieb“ Seminar teilgenommen hast oder zumindest die Onlinekurse „Bestseller Training“ oder „Führung im Vertrieb“ absolviert hast. \nFalls du zu denjenigen gehörst\, die sich nach mehr Umsatz\, höheren Gewinnen\, mehr Zeit\, zusätzlicher Freizeit und größerer Unabhängigkeit sehnen\, und ein Unternehmen aufbauen möchtest\, das nahezu autonom funktioniert\, dann ist das Seminar Skalieren & Expandieren die perfekte Wahl für dich. \n\n\nInhalt \nToggle\nDas Event auf einen BlickWas steckt hinter dem Community Day?Programm & AblaufSpeaker & ReferentenTickets & PreiseEarly-Bird-TicketStandard-TicketLocation: B’Mine Hotel FrankfurtErfahrungen & BewertungenFazit: Lohnt sich die Teilnahme?Häufige FragenWann und wo findet der Community Day 2026 statt?Was kostet ein Ticket für den Community Day 2026?Für wen ist der Community Day geeignet?Wann werden die Tickets versandt?Wie komme ich zum B’Mine Hotel in Frankfurt?Was ist im Ticket inbegriffen?Ralf SchmitzB’Mine Hotel Frankfurt\n\nSkalieren und Expandieren 2023 by Dirk Kreuter\n\nTermin: 2. – 4. Oktober 2023\nLocation: Dubai\nWebseite & Tickets: www.bestseller-verlag.com\n\nSkalieren und Expandieren 2024 by Dirk Kreuter\n\nTermin: 27. – 29. September 2024\nLocation: Dubai\nWebseite & Tickets: www.bestseller-verlag.com
URL:https://www.onlinevents.de/event/skalieren-und-expandieren-by-dirk-kreuter/
LOCATION:Dubai\, Vereinigte Arabische Emirate
CATEGORIES:Online Marketing
ATTACH;FMTTYPE=image/jpeg:https://www.onlinevents.de/wp-content/uploads/2023/08/Skalieren-und-Expandieren-by-Dirk-Kreuter-Bild-final.jpg
END:VEVENT
BEGIN:VEVENT
DTSTART;VALUE=DATE:20231011
DTEND;VALUE=DATE:20231012
DTSTAMP:20260421T120922
CREATED:20230831T151315Z
LAST-MODIFIED:20230831T151336Z
UID:999-1696982400-1697068799@www.onlinevents.de
SUMMARY:Digital Bash 2023
DESCRIPTION:Eine der größten Web-Konfernzen in der Digital Branche findet nun auch vor Ort statt. Am 11.10.23 kannst du einen persönlichen Wissensaustausch mit der Digital- und Marketingszene bei der Digital Bash 2023 erleben – einen spannenden Tag mit exklusivem Programm. Komm nach Hamburg und sei live dabei! \n  \nInfos & Tickets unter: \nwww.digital-bash.de \n  \nDich erwarten 40 hochkarätige Speaker auf 3 Bühnen. Mehr als 600 Telnehmende aus der Digitalbranche werden erwartet. Von Social Media über E-Commerce bis hin zu SEO – es werden alle relevanten Themen abgedeckt. Du hast die Möglichkeit live vor Ort dabei zu sein oder das Event bequem per Live-Stream online verfolgen. \n\n\nInhalt \nToggle\nDas Event auf einen BlickWas steckt hinter dem Community Day?Programm & AblaufSpeaker & ReferentenTickets & PreiseEarly-Bird-TicketStandard-TicketLocation: B’Mine Hotel FrankfurtErfahrungen & BewertungenFazit: Lohnt sich die Teilnahme?Häufige FragenWann und wo findet der Community Day 2026 statt?Was kostet ein Ticket für den Community Day 2026?Für wen ist der Community Day geeignet?Wann werden die Tickets versandt?Wie komme ich zum B’Mine Hotel in Frankfurt?Was ist im Ticket inbegriffen?Ralf SchmitzB’Mine Hotel Frankfurt\n \nDigital Bash 2023\n\nTermin: 11. Oktober 2023\nLocation: St. Pauli Millerntorstadion in Hamburg\nWebseite & Tickets: www.digital-bash.de\n\nTickets 2023\nAll Inclusive Ticket\n\nZugang zu Messe und Konferenz am 11.10.2023 in Hamburg\nZugang zu allen Bühnen (Main Stage und Masterclasses)\nInklusive Food & Drinks den ganzen Tag\nAufzeichnung aller Masterclasses + Main Stage im Nachgang\nOption auf eine Stadionführung\nTicket Bundle: Ab 5 Tickets erhältst du 50% Rabatt auf deinen Warenkorb. Schreibe uns per Mail\nPreis: regulär 349 €\, Early Bird 249 €\n\nGold Ticket\n\nAlle Leistungen des All Inclusive Tickets\nZusätzlich Zugang zum Speakers Dinner am 10.10.2023\nGarantierter Platz für Stadionführung\nVIP-Sitzplätze an den Bühnen am Tag der Konferenz\nPreis: regulär 899 €\n\nOnline Only Ticket\n\nOnline: Stream von Bühne Masterclass 1\nOnline: Stream von Bühne Masterclass 2\nAufzeichnung aller Masterclasses\nPreis: kostenlos\n\n \nWeitere Informationen & Tickets unter: \nwww.digital-bash.de \n 
URL:https://www.onlinevents.de/event/digital-bash/
LOCATION:St. Pauli Millerntorstadion\, Harald-Stender-Platz 1\, Hamburg\, 20359\, Deutschland
CATEGORIES:Online Marketing
ATTACH;FMTTYPE=image/jpeg:https://www.onlinevents.de/wp-content/uploads/2023/08/Digital-Bash-Bild-final.jpg
END:VEVENT
BEGIN:VEVENT
DTSTART;VALUE=DATE:20231011
DTEND;VALUE=DATE:20231014
DTSTAMP:20260421T120922
CREATED:20230828T131816Z
LAST-MODIFIED:20230828T132343Z
UID:915-1696982400-1697241599@www.onlinevents.de
SUMMARY:Überzeugend Präsentieren 2023 by Dirk Kreuter
DESCRIPTION:Für Unternehmer\, Selbstständige\, Gründer und Führungskräfte besteht die kontinuierliche Aufgabe darin\, ihre Produkte\, Dienstleistungen\, Geschäftsmodelle und Ideen\, vor allem aber auch sich selbst\, zu vermarkten. \nHast du gewusst\, dass die Art und Weise\, wie etwas gesagt wird\, oft wichtiger ist als der Inhalt selbst? Deine Kommunikationsweise bestimmt\, wie deine Botschaft beim Gegenüber ankommt. Wie sie ankommt\, beeinflusst wiederum\, wie dein Gegenüber darüber denkt und welche Handlungen es daraufhin ergreift. Das Schöne daran ist: Du hast die Kontrolle darüber. Besonders in Präsentationen und im Verkauf spielt der Rahmen\, den du schaffst\, eine entscheidende Rolle. \n  \nInfos & Tickets unter: \nwww.bestseller-verlag.com \n  \nWenn du schnell erlernbare Präsentationstechniken kennenlernen möchtest\, die zudem leicht anzuwenden sind\, dann ist dieses Seminar genau das Richtige für dich. \nEs ist ein unverzichtbares Seminar für all jene\, die einen professionellen und überzeugenden Auftritt anstreben. \n\n\nInhalt \nToggle\nDas Event auf einen BlickWas steckt hinter dem Community Day?Programm & AblaufSpeaker & ReferentenTickets & PreiseEarly-Bird-TicketStandard-TicketLocation: B’Mine Hotel FrankfurtErfahrungen & BewertungenFazit: Lohnt sich die Teilnahme?Häufige FragenWann und wo findet der Community Day 2026 statt?Was kostet ein Ticket für den Community Day 2026?Für wen ist der Community Day geeignet?Wann werden die Tickets versandt?Wie komme ich zum B’Mine Hotel in Frankfurt?Was ist im Ticket inbegriffen?Ralf SchmitzB’Mine Hotel Frankfurt\n \nÜberzeugend Präsentieren 2023 by Dirk Kreuter\n\nTermin: 11. – 13. Oktober 2023\nLocation: Dubai\nWebseite & Tickets: www.bestseller-verlag.com
URL:https://www.onlinevents.de/event/ueberzeugend-praesentieren-by-dirk-kreuter/
LOCATION:Dubai\, Vereinigte Arabische Emirate
CATEGORIES:Persönlichkeitsentwicklung,Vertrieb
ATTACH;FMTTYPE=image/jpeg:https://www.onlinevents.de/wp-content/uploads/2023/08/Ueberzeugend-Praesentieren-Dirk-Kreuter-Bild-final.jpg
END:VEVENT
BEGIN:VEVENT
DTSTART;TZID=Europe/Berlin:20231012T100000
DTEND;TZID=Europe/Berlin:20231014T160000
DTSTAMP:20260421T120922
CREATED:20230828T121004Z
LAST-MODIFIED:20230828T121023Z
UID:877-1697104800-1697299200@www.onlinevents.de
SUMMARY:Story Magic Live Event 2023
DESCRIPTION:In nur 3 Tagen erlangst du die Fähigkeit\, dich einzigartig zu positionieren\, eine klare Kommunikation mit deinen potenziellen Kunden zu etablieren und dich von deiner Konkurrenz abzuheben. Das alles bekommst du beim STORY MAGIC EVENT in Düsseldorf vom Donnerstag\, den 12. bis Samstag\, den 14. Oktober 2023. \n  \nInfos & Tickets unter: \nwww.storytelling-event.de \n  \nGemeinsam kannst du das in diesem Zeitraum erreichen: \n\nEinen maßgeschneiderten Plan zur Steigerung deiner Sichtbarkeit entwickeln\, der es dir ermöglicht\, den Wert deines Produkts klar und überzeugend zu vermitteln.\nMessbar mehr Kunden für dein Unternehmen gewinnen.\nDeine Umsätze steigern.\n\n\n\nInhalt \nToggle\nDas Event auf einen BlickWas steckt hinter dem Community Day?Programm & AblaufSpeaker & ReferentenTickets & PreiseEarly-Bird-TicketStandard-TicketLocation: B’Mine Hotel FrankfurtErfahrungen & BewertungenFazit: Lohnt sich die Teilnahme?Häufige FragenWann und wo findet der Community Day 2026 statt?Was kostet ein Ticket für den Community Day 2026?Für wen ist der Community Day geeignet?Wann werden die Tickets versandt?Wie komme ich zum B’Mine Hotel in Frankfurt?Was ist im Ticket inbegriffen?Ralf SchmitzB’Mine Hotel Frankfurt\n \nStory Magic Live Event 2023\n\nTermin: 12. – 14. Oktober 2023\nLocation: Van der Valk Airporthotel\, Düsseldorf\nWebseite & Tickets: www.storytelling-event.de\n\nAblauf & Programm\n1. Trainingstag\nDas Fundament: Erreiche optimale Sichtbarkeit in deiner Zielgruppe & Nische \n2. Trainingstag\nDeine klare Positionierung \n3. Trainingstag\nDer starke Umsetzungsfahrplan + Aufnahme Deiner Positionierungsgeschichte im professionellen Video-Studio \nTickets 2023\n\n​3 Tage Live-Training mit Alexander Christiani im Van der Valk Airport Hotel (Do. 12. – 14. Oktober 2023)\n​Praktisches Umsetzen und Austausch in einer Kleingruppe (max. 12 Teilnehmer) mit einem Gruppenleiter\n​Umsetzungs-Landkarten mit Erfolgsformeln – das ist wie Marketing-Malen-nach-Buchstaben\n​Teil einer Community von ehrbaren und erfolgsorientierten Unternehmern\n​Ausarbeitung Deiner Positionierungsgeschichte & Produktnutzen-Geschichte direkt vor Ort.\n​Verpflegung inkl. Tagungsgetränken und Mittagessen an allen drei Tagen\n​Video-Aufnahme Deiner Positionierungsgeschichte am Sonntag in unseren Video-Studios\n​inkl. Gastvorträgen & echte Beispiele und Lösungen aus schwierigen Branchen\n​inkl. StoryCoaching Starter-Paket im Wert von 1.997\,- Euro\n\n \nWer ist Alexander Christiani?\nDie Presse nennt ihn „Deutschlands Storytelling-Pionier“ aufgrund seiner langjährigen Erfahrung im Bereich Storytelling\, den er lehrte\, als es noch nicht weit verbreitet war. Als Vertriebscoach begleitete Alexander Christiani über 15 Jahre lang Top-Verkäufer aus verschiedenen Branchen\, darunter Allianz\, Bertelsmann und Commerzbank\, die sich durch eine entscheidende Fähigkeit auszeichneten: das Erzählen von Geschichten. \nAls er begann\, dieses Konzept auf die Marketing-Kommunikation anzuwenden\, stellte sich heraus\, dass erfolgreiche Unternehmer wie Steve Jobs\, Sir Richard Branson und Claus Hipp ähnlich vorgingen – sie beherrschten die Kunst des Storytellings und dominierten ihre Märkte. \nGeschichten\, als ältestes Kommunikationsmittel\, erwiesen sich als äußerst wirksam\, sogar gegenüber durchschnittlichen Marketingbotschaften. Sie können den Nutzen eines Produkts klar vermitteln. Getrieben von dem Wunsch\, ehrlichen Unternehmern mit hochwertigen Produkten zum Erfolg zu verhelfen\, teilte er sein Wissen mit aufstrebenden Mittelständlern. \nIn den letzten zehn Jahren erfuhr er\, dass eine klare Botschaft zu mehr Aufmerksamkeit und Umsatz führt\, und Geschichten sind für jedes Unternehmen mit hochwertigen Produkten in jeder Branche äußerst effektiv.
URL:https://www.onlinevents.de/event/story-magic-live-event/
LOCATION:Van der Valk Airporthotel\, Am Hülserhof 57\, Düsseldorf\, Nordrhein-Westfalen\, 40472\, Deutschland
CATEGORIES:Online Marketing
ATTACH;FMTTYPE=image/jpeg:https://www.onlinevents.de/wp-content/uploads/2023/08/Story-Magic-Live-Event-Duesseldorf-Bild-final.jpg
END:VEVENT
BEGIN:VEVENT
DTSTART;VALUE=DATE:20231014
DTEND;VALUE=DATE:20231016
DTSTAMP:20260421T120922
CREATED:20231005T152230Z
LAST-MODIFIED:20231005T152230Z
UID:1092-1697241600-1697414399@www.onlinevents.de
SUMMARY:Digital Business Tools 2023 by Dirk Kreuter
DESCRIPTION:Es gibt unzählige Tools\, sowohl mit KI als auch ohne\, die versprechen\, dass du schneller und erfolgreicher wirst. Vielleicht springst du gerade von einer Software zur nächsten\, in dem Bestreben\, ihre „Geheimnisse“ zu entschlüsseln. Statt jedoch mehr Umsatz zu generieren und Prozesse zu beschleunigen\, verbringst du eher mehr Zeit als weniger damit. \n  \nInfos & Tickets unter: \nwww.digital-business-tools.de \n  \nUm Klarheit im Dschungel der Digitalisierungs- und Marketing-Tools zu schaffen\, veranstaltet Dirk Kreuter zusammen mit seiner Marketing-Agentur ein zweitägiges Seminar. In diesem Seminar präsentieren die Experten der Agentur ihre bevorzugten Tools\, geben Einblicke in ihre Strategien und erklären anhand praktischer Beispiele\, wie du diese Werkzeuge effektiv einsetzen kannst\, um tatsächlich Zeit zu sparen und deine Produktivität zu steigern. \n\n\nInhalt \nToggle\nDas Event auf einen BlickWas steckt hinter dem Community Day?Programm & AblaufSpeaker & ReferentenTickets & PreiseEarly-Bird-TicketStandard-TicketLocation: B’Mine Hotel FrankfurtErfahrungen & BewertungenFazit: Lohnt sich die Teilnahme?Häufige FragenWann und wo findet der Community Day 2026 statt?Was kostet ein Ticket für den Community Day 2026?Für wen ist der Community Day geeignet?Wann werden die Tickets versandt?Wie komme ich zum B’Mine Hotel in Frankfurt?Was ist im Ticket inbegriffen?Ralf SchmitzB’Mine Hotel Frankfurt\n \nDigital Business Tools 2023 by Dirk Kreuter\n\nTermin: 14. – 15. Oktober 2023\nLocation: Online\nWebseite & Tickets: www.digital-business-tools.de\n\nNeben den besten Tools für dein Marketing erhältst du auch Ratschläge zu Vertriebs- und Management-Tools wie CRM-Systemen\, Dashboards und Recruiting-Software. Die Tickets für das Streaming des Seminars sind kostenlos erhältlich! \nIn diesem Seminar dreht sich alles um die Digitalisierung der vier wichtigsten Unternehmensbereiche: \n✅ Marketing\n✅ Vertrieb\n✅ Personal\n✅ Unternehmensführung \nDich erwarten unter anderem Tools zu folgenden Themen: \n\nKI im Online-Marketing: Entdecke innovative Werkzeuge und Strategien\, die Künstliche Intelligenz nutzen\, um dein Online-Marketing zu verbessern und deine Zielgruppe effektiver anzusprechen.\nAbschlussquote und Sales Cycle im Vertrieb: Erfahre\, wie du mithilfe von speziellen Tools die Abschlussquote in deinem Vertrieb erhöhen und den Verkaufszyklus optimieren kannst\, um schneller Erfolge zu erzielen.\nUmsatzsteigerung im E-Commerce: Erhalte Einblicke in bewährte Methoden und Instrumente\, die dazu beitragen\, den Umsatz deines E-Commerce-Geschäfts zu steigern und deine Online-Verkäufe zu maximieren.\nEffektives Recruiting: Entdecke Tools und Techniken\, die dir bei einem effektiven Recruiting-Prozess helfen\, um hochqualifizierte Talente für dein Unternehmen zu gewinnen.\nZeitmanagement: Erfahre\, wie du mithilfe von Zeitmanagement-Tools deine Arbeit effizienter organisieren und produktiver werden kannst.\nOptimierung von internen Prozessen: Lerne\, wie du die internen Abläufe in deinem Unternehmen mithilfe von speziellen Tools optimieren kannst\, um Zeit und Ressourcen zu sparen.\nGezielte Kundenansprache: Finde heraus\, wie du durch gezielte Kundenansprache und personalisierte Marketing-Tools deine Kundenbindung steigern und langfristige Kundenbeziehungen aufbauen kannst.\nReichweite über Social-Media-Kanäle: Entwickle Strategien und nutze Tools\, um deine Reichweite über verschiedene Social-Media-Plattformen zu erhöhen und deine Präsenz in den sozialen Medien zu stärken.\nSocial Proof und Trust-Faktor: Erfahre\, wie du den Social Proof und das Vertrauen in deine Marke oder Produkte steigerst\, indem du spezielle Tools und Taktiken einsetzt\, die das Vertrauen deiner Kunden gewinnen.\n\nTicket 2023\n\nZugang für beide Tage Business Tools Conference online\nDigitale Präsenz auf der Leinwand\nAustausch mit den anderen Teilnehmern\nDie Möglichkeit zur Interaktion mit den Speakern – Stell den Experten deine Fragen\nExpertentipps zu den wichtigsten Tools für dein Wachstum\nInsiderwissen für deine Vertriebs-\, Prozess-\, Recruiting- und Marketingoptimierung\n\n \nWeitere Informationen & Tickets unter: \nwww.digital-business-tools.de \n 
URL:https://www.onlinevents.de/event/digital-business-tools/
LOCATION:Online
CATEGORIES:Online Marketing,Recruiting,Vertrieb
ATTACH;FMTTYPE=image/jpeg:https://www.onlinevents.de/wp-content/uploads/2023/10/Digital-Business-Tools-by-Dirk-Kreuter-Bild-final-.jpg
END:VEVENT
BEGIN:VEVENT
DTSTART;TZID=Europe/Berlin:20231017T160000
DTEND;TZID=Europe/Berlin:20231022T190000
DTSTAMP:20260421T120922
CREATED:20230605T151421Z
LAST-MODIFIED:20230728T191317Z
UID:705-1697558400-1698001200@www.onlinevents.de
SUMMARY:Bewusstheit 2023 von Christian Bischoff
DESCRIPTION:Dieses Retreat in Christian Bischoffs Seminarreihe 2023 ermöglicht dir eine lebensverändernde Transformation! Während dieser 5\,5 Tage wirst du die Möglichkeit haben\, dein Leben auf eine neue Weise zu gestalten. Es eröffnet sich eine Welt voller Chancen und Möglichkeiten\, um dich weiterzuentwickeln und zu wachsen. \n  \n  \nInfos & Tickets unter: \nwww.christian-bischoff.com \n  \n\n\nInhalt \nToggle\nDas Event auf einen BlickWas steckt hinter dem Community Day?Programm & AblaufSpeaker & ReferentenTickets & PreiseEarly-Bird-TicketStandard-TicketLocation: B’Mine Hotel FrankfurtErfahrungen & BewertungenFazit: Lohnt sich die Teilnahme?Häufige FragenWann und wo findet der Community Day 2026 statt?Was kostet ein Ticket für den Community Day 2026?Für wen ist der Community Day geeignet?Wann werden die Tickets versandt?Wie komme ich zum B’Mine Hotel in Frankfurt?Was ist im Ticket inbegriffen?Ralf SchmitzB’Mine Hotel Frankfurt\n \nBewusstheit 2023 Retreat\n\nNächster Termin: 17.10. – 22.10.2023 (weitere siehe unten)\nLocation: Tagungszentrum Blaubeuren\nWebseite & Tickets: christian-bischoff.com\n\nDie wichtigste Lebensfrage überhaupt – „Wer bin ich?“ – wird während des Retreats beantwortet. Du hast die einzigartige Gelegenheit\, tief in dich selbst einzutauchen und herauszufinden\, wer du wirklich bist. Dieser Prozess kann eine wahre Offenbarung sein und dir helfen\, Klarheit und Richtung in deinem Leben zu finden. \nEin weiterer wichtiger Aspekt des Retreats ist die Entdeckung deines inneren Friedens. Inmitten des hektischen Alltags und den Herausforderungen des Lebens ist es oft schwierig\, zur Ruhe zu kommen. Doch während dieser 5\,5 Tage wirst du lernen\, in dir selbst zur Ruhe zu kommen und deinen inneren Frieden zu finden. Dies wird dir helfen\, mit mehr Gelassenheit und Ausgeglichenheit durchs Leben zu gehen. \nDas Retreat bietet auch Raum\, um deine Ängste\, Sorgen und Probleme loszulassen. Oftmals lasten diese schwer auf unseren Schultern und beeinflussen unsere Lebensqualität. Doch hier hast du die Möglichkeit\, dich von diesem Ballast zu befreien und einen frischen Start zu machen. Du wirst lernen\, wie du Druck\, Stress und negative Gedanken hinter dir lassen kannst\, um Platz für positive Veränderungen zu schaffen. \nNeben all den tieferen Aspekten des Retreats gibt es auch Raum für Freude und Leichtigkeit. Du wirst deine Lebensfreude wiederfinden und die Last des Alltags abwerfen können. Es ist wichtig\, sich Zeit für sich selbst zu nehmen und sich daran zu erinnern\, dass das Leben auch voller Freude und Leichtigkeit sein kann. \nAlles in allem bietet dieses Retreat die Möglichkeit\, dein Leben in kürzester Zeit zu transformieren. Es ist eine einzigartige Gelegenheit\, dich selbst besser kennenzulernen\, inneren Frieden zu finden\, Ängste loszulassen und deine Lebensfreude wiederzuentdecken. Wenn du bereit bist\, diese Reise anzutreten\, wirst du erstaunt sein\, wie viel du erreichen kannst und wie positiv sich dein Leben verändern kann. \n \nTickets und Preise\n\n5\,5 Tage Retreat mit Christian Bischoff\nFreie Platzwahl\nSchreibutensilien\nMittagessen inklusive\nKosten: 1.997 € Early-Bird anstatt 2.997 € regulär
URL:https://www.onlinevents.de/event/bewusstheit-christian-bischoff/
LOCATION:Tagungszentrum Blaubeuren
CATEGORIES:Persönlichkeitsentwicklung
ATTACH;FMTTYPE=image/png:https://www.onlinevents.de/wp-content/uploads/2023/07/Bewusstheit-Logo.png
END:VEVENT
END:VCALENDAR