BEGIN:VCALENDAR
VERSION:2.0
PRODID:-//onlinevents.de - ECPv6.15.17.1//NONSGML v1.0//EN
CALSCALE:GREGORIAN
METHOD:PUBLISH
X-ORIGINAL-URL:https://www.onlinevents.de
X-WR-CALDESC:Veranstaltungen für onlinevents.de
REFRESH-INTERVAL;VALUE=DURATION:PT1H
X-Robots-Tag:noindex
X-PUBLISHED-TTL:PT1H
BEGIN:VTIMEZONE
TZID:Europe/Berlin
BEGIN:DAYLIGHT
TZOFFSETFROM:+0100
TZOFFSETTO:+0200
TZNAME:CEST
DTSTART:20220327T010000
END:DAYLIGHT
BEGIN:STANDARD
TZOFFSETFROM:+0200
TZOFFSETTO:+0100
TZNAME:CET
DTSTART:20221030T010000
END:STANDARD
BEGIN:DAYLIGHT
TZOFFSETFROM:+0100
TZOFFSETTO:+0200
TZNAME:CEST
DTSTART:20230326T010000
END:DAYLIGHT
BEGIN:STANDARD
TZOFFSETFROM:+0200
TZOFFSETTO:+0100
TZNAME:CET
DTSTART:20231029T010000
END:STANDARD
BEGIN:DAYLIGHT
TZOFFSETFROM:+0100
TZOFFSETTO:+0200
TZNAME:CEST
DTSTART:20240331T010000
END:DAYLIGHT
BEGIN:STANDARD
TZOFFSETFROM:+0200
TZOFFSETTO:+0100
TZNAME:CET
DTSTART:20241027T010000
END:STANDARD
END:VTIMEZONE
BEGIN:VEVENT
DTSTART;VALUE=DATE:20231104
DTEND;VALUE=DATE:20231106
DTSTAMP:20260421T105224
CREATED:20230918T153727Z
LAST-MODIFIED:20230918T153727Z
UID:1064-1699056000-1699228799@www.onlinevents.de
SUMMARY:Robert Kiyosaki LIVE 2023
DESCRIPTION:Robert Kiyosaki\, ein angesehener Unternehmer\, Investor und Bestsellerautor\, erlangte weltweite Bekanntheit durch sein wegweisendes Werk „Rich Dad Poor Dad“\, das Millionen von Exemplaren absetzte. In diesem Buch stellt er herkömmliche finanzielle Denkmuster in Frage und präsentiert eine revolutionäre Sichtweise auf den Aufbau von Wohlstand. Kiyosaki ermutigt Menschen dazu\, ihre Einstellungen gegenüber Geld\, Vermögen und Schulden zu überdenken\, um sie in die Lage zu versetzen\, ihre finanzielle Zukunft eigenständig zu gestalten. \n  \nInfos & Tickets unter: \nmein.richlife.de \n  \nAm 4. und 5. November 2023 kannst du Robert Kiyosaki live in Stuttgart erleben. Neben ihm werden auch Tom Wheelwright und Ken McElroy auf der Bühne stehen. Lass dir dieses besondere Event\, in dem sich alles um deine Finanzen dreht\, nicht entgehen. \n\n\nInhalt \nToggle\nDas Event auf einen BlickWas steckt hinter dem Community Day?Programm & AblaufSpeaker & ReferentenTickets & PreiseEarly-Bird-TicketStandard-TicketLocation: B’Mine Hotel FrankfurtErfahrungen & BewertungenFazit: Lohnt sich die Teilnahme?Häufige FragenWann und wo findet der Community Day 2026 statt?Was kostet ein Ticket für den Community Day 2026?Für wen ist der Community Day geeignet?Wann werden die Tickets versandt?Wie komme ich zum B’Mine Hotel in Frankfurt?Was ist im Ticket inbegriffen?Ralf SchmitzB’Mine Hotel Frankfurt\n\nRobert Kiyosaki LIVE 2023\n\nTermin: 4. – 5. November 2023\nLocation: NAC 2023 in Stuttgart\nWebseite & Tickets: mein.richlife.de\n\nDie 3 Top Themen des Events: \n\nSteigere deinen finanziellen IQ\nInnovative Steuer- & Vermögensstrategien\nUnendliche Rendite mit Immobilien\n\nRobert Kiyosaki Tickets\nStandard Tickets\n\nZwei volle Tage Unternehmer- & Investmenttraining\nPräsentationen von Robert Kiyosaki\, seinen Beratern und Experten\nStandard-Sitzplatz\nNAC Workbook\nRichDad Mastery Toolkit\nPreis: regulär 1.197 €\, Early Bird 597 €\n\nVIP-Erlebnis\n\nAlles aus der Standard-Kategorie PLUS…\nSitzplatz in den ersten Reihen\nFast Track Registrierung\nSpeed-Networking-Session\nCashflow-Spiel-Session\nMeet & Greet mit den Referenten\nMittagessen inklusive\nPreis: regulär 2.997 €\, Early Bird 1.197 €\n\n \nWeitere Informationen & Tickets unter: \nmein.richlife.de \n 
URL:https://www.onlinevents.de/event/robert-kiyosaki-live/
LOCATION:ICS Internationales Congresscenter Stuttgart\, Königstraße 22\, Stuttgart\, Baden-Württemberg\, 70173\, Deutschland
CATEGORIES:Finanzen,Immobilien,Persönlichkeitsentwicklung
ATTACH;FMTTYPE=image/png:https://www.onlinevents.de/wp-content/uploads/2023/09/Robert-Kiyosaki-LIVE.png
END:VEVENT
BEGIN:VEVENT
DTSTART;VALUE=DATE:20231106
DTEND;VALUE=DATE:20231111
DTSTAMP:20260421T105224
CREATED:20230829T135521Z
LAST-MODIFIED:20240110T170355Z
UID:977-1699228800-1699660799@www.onlinevents.de
SUMMARY:Gründerkongress 2023
DESCRIPTION:Der Gründerkongress ist das Event für alle\, die den Schritt in die Selbstständigkeit wagen und ihr eigenes Unternehmen aufbauen möchten. Thomas Klußmann und sein Team unterstützen Menschen dabei\, anfängliche Hürden zu überwinden\, unaufhaltsame Energie zu entfachen und innovativen Ideen Raum zu geben. \n  \nInfos & Tickets unter: \nwww.kongress.gruender.de \n  \nDer Gründerkongress findet vom 6. bis zum 10. November 2023 statt – und das Ganze wird live im Livestream übertragen. Dort erwarten dich mehr als 30 kostenfreie Vorträge von Experten. Es werden über 24.000 Teilnehmer erwartet. Und das Beste daran ist\, dass die Teilnahme komplett kostenfrei ist. \n\n\nInhalt \nToggle\nDas Event auf einen BlickWas steckt hinter dem Community Day?Programm & AblaufSpeaker & ReferentenTickets & PreiseEarly-Bird-TicketStandard-TicketLocation: B’Mine Hotel FrankfurtErfahrungen & BewertungenFazit: Lohnt sich die Teilnahme?Häufige FragenWann und wo findet der Community Day 2026 statt?Was kostet ein Ticket für den Community Day 2026?Für wen ist der Community Day geeignet?Wann werden die Tickets versandt?Wie komme ich zum B’Mine Hotel in Frankfurt?Was ist im Ticket inbegriffen?Ralf SchmitzB’Mine Hotel Frankfurt\n \nGründerkongress 2023\n\nTermin: 6. – 10. November 2023\nLocation: Live Online\nWebseite & Tickets: kongress.gruender.de\n\n \nWeitere Informationen & Tickets unter: \nwww.kongress.gruender.de \n 
URL:https://www.onlinevents.de/event/gruenderkongress/
LOCATION:Online
CATEGORIES:Persönlichkeitsentwicklung
ATTACH;FMTTYPE=image/jpeg:https://www.onlinevents.de/wp-content/uploads/2023/08/Gruenderkongress-2023-Bild-final.jpg
END:VEVENT
END:VCALENDAR